BEGIN:VCALENDAR
VERSION:2.0
BEGIN:VEVENT
UID:ics69eb863b837ec
DTSTAMP:20260424T150323Z
LOCATION:
DESCRIPTION:
URL:https://www.jugendwerk-altholstein.de/angebote/veranstaltung/tagesfahrt-in-die-kz-gedenkstaette-bergen-belsen-am-11-juli/
SUMMARY:Tagesfahrt in die KZ Gedenkstätte Bergen Belsen am 11. Juli 
DTSTART:20260711T053000Z
DTEND:19691231T210000Z
END:VEVENT
END:VCALENDAR
