BEGIN:VCALENDAR
VERSION:2.0
BEGIN:VEVENT
UID:ics69e65c9e473c1
DTSTAMP:20260420T170430Z
LOCATION:
DESCRIPTION:
URL:https://www.jugendwerk-altholstein.de/angebote/veranstaltung/jims-bar-kiwo-party-am-5-juni-ab-17-uhr-in-kiel/
SUMMARY:JiMs Bar: KiWo-Party am 5. Juni ab 17 Uhr in Kiel
DTSTART:20260617T150000Z
DTEND:20260617T131000Z
END:VEVENT
END:VCALENDAR
